BEGIN:VCALENDAR
VERSION:2.0
PRODID:-//Plone.org//NONSGML plone.app.event//EN
X-WR-TIMEZONE:Europe/Vienna
BEGIN:VEVENT
SUMMARY:INTRA! INTRA! Towards an INTRA SPACE
DTSTART;TZID=Europe/Vienna:20220524T170000
DTSTAMP:20260422T221926Z
UID:b5f6f763a3d54779895c78cd1ad72e3c@www.akbild.ac.at
CATEGORIES:Vorträge / Veranstaltungen
CREATED:20220505T075914Z
DESCRIPTION:Presentation of the volume [em][en]INTRA! INTRA! Towards an IN
 TRA SPACE[/em][/en] of the publication series of the Academy of Fine Arts 
 Vienna edited by Christina Jauernik and Wolfgang Tschapeller. With welcome
  words by Johan F. Hartle.
LAST-MODIFIED:20240802T103353Z
URL:https://www.akbild.ac.at/en/museum-and-exhibitions/Exhibit/exhibitions
 -events/current-exhibitions/2022/spheres-and-cones/intra-intra-towards-an-
 intra-space
END:VEVENT
BEGIN:VTIMEZONE
TZID:Europe/Vienna
X-LIC-LOCATION:Europe/Vienna
BEGIN:DAYLIGHT
DTSTART:20220327T030000
TZNAME:CEST
TZOFFSETFROM:+0100
TZOFFSETTO:+0200
END:DAYLIGHT
END:VTIMEZONE
END:VCALENDAR
