BEGIN:VCALENDAR
VERSION:2.0
PRODID:-//Plone.org//NONSGML plone.app.event//EN
X-WR-TIMEZONE:Europe/Vienna
BEGIN:VEVENT
SUMMARY:Opening Exhibit Studio
DTSTART;TZID=Europe/Vienna:20221019T100000
DTEND;TZID=Europe/Vienna:20221019T200000
DTSTAMP:20260424T035151Z
UID:4c772440ba14498d8dca4d363548d156@www.akbild.ac.at
CATEGORIES:Vorträge / Veranstaltungen
CREATED:20220929T114933Z
DESCRIPTION:As part of the Climate Action October\, Exhibit Studio present
 s its latest exhibition What's another word for holding together? on the o
 ccasion of the Action Day at Schillerplatz on October 19.
LAST-MODIFIED:20240802T103353Z
URL:https://www.akbild.ac.at/en/museum-and-exhibitions/Exhibit/exhibitions
 -events/current-exhibitions/2022/whats-another-word-for-holding-together/o
 pening-exhibit-studio
END:VEVENT
BEGIN:VTIMEZONE
TZID:Europe/Vienna
X-LIC-LOCATION:Europe/Vienna
BEGIN:DAYLIGHT
DTSTART:20220327T030000
TZNAME:CEST
TZOFFSETFROM:+0100
TZOFFSETTO:+0200
END:DAYLIGHT
END:VTIMEZONE
END:VCALENDAR
