BEGIN:VCALENDAR
VERSION:2.0
PRODID:-//Plone.org//NONSGML plone.app.event//EN
X-WR-TIMEZONE:Europe/Vienna
BEGIN:VEVENT
SUMMARY:come down\, come through
DTSTART;TZID=Europe/Vienna:20230520T180000
DTSTAMP:20260422T150610Z
UID:c884d4f410c34fcc8bcf56bcb1f824a9@www.akbild.ac.at
CATEGORIES:Vorträge / Veranstaltungen
CREATED:20230510T134909Z
DESCRIPTION:Performance by Butterfly Paralyzed
LAST-MODIFIED:20240802T103349Z
URL:https://www.akbild.ac.at/en/museum-and-exhibitions/Exhibit/exhibitions
 -events/current-exhibitions/2023/having-a-good-time/come-down-come-through
END:VEVENT
BEGIN:VTIMEZONE
TZID:Europe/Vienna
X-LIC-LOCATION:Europe/Vienna
BEGIN:DAYLIGHT
DTSTART:20230326T030000
TZNAME:CEST
TZOFFSETFROM:+0100
TZOFFSETTO:+0200
END:DAYLIGHT
END:VTIMEZONE
END:VCALENDAR
