BEGIN:VCALENDAR
VERSION:2.0
PRODID:-//Plone.org//NONSGML plone.app.event//EN
X-WR-TIMEZONE:Europe/Vienna
BEGIN:VEVENT
SUMMARY:An Introduction to Knitting\, Crochet & Weaving with Natural and R
 ecycled Materials
DTSTART;TZID=Europe/Vienna:20230513T150000
DTEND;TZID=Europe/Vienna:20230513T190000
DTSTAMP:20260423T103526Z
UID:bfb4012e980f40f5bb9bbb77593157d0@www.akbild.ac.at
CATEGORIES:Vorträge / Veranstaltungen
CREATED:20230418T085809Z
DESCRIPTION:Workshop with Elisa Schober\, Sophia Davislim and Paul Schaffe
 r
LAST-MODIFIED:20240802T103349Z
URL:https://www.akbild.ac.at/en/museum-and-exhibitions/Exhibit/exhibitions
 -events/current-exhibitions/2023/ich-kann-leider-auch-nicht-lg/an-introduc
 tion-to-knitting-crochet-weaving-with-natural-and-recycled-materials
END:VEVENT
BEGIN:VTIMEZONE
TZID:Europe/Vienna
X-LIC-LOCATION:Europe/Vienna
BEGIN:DAYLIGHT
DTSTART:20230326T030000
TZNAME:CEST
TZOFFSETFROM:+0100
TZOFFSETTO:+0200
END:DAYLIGHT
END:VTIMEZONE
END:VCALENDAR
