BEGIN:VCALENDAR
VERSION:2.0
PRODID:-//Plone.org//NONSGML plone.app.event//EN
X-WR-TIMEZONE:Europe/Vienna
BEGIN:VEVENT
SUMMARY:Looping the Matrix – Ancient Technologies Revisited
DTSTART;TZID=Europe/Vienna:20230512T180000
DTSTAMP:20260423T114340Z
UID:dec547685e3e4441a2c0074c3721d0ba@www.akbild.ac.at
CATEGORIES:Vorträge / Veranstaltungen
CREATED:20230418T085019Z
DESCRIPTION:Workshop by Ulrich Formann
LAST-MODIFIED:20240802T103349Z
URL:https://www.akbild.ac.at/en/museum-and-exhibitions/Exhibit/exhibitions
 -events/current-exhibitions/2023/ich-kann-leider-auch-nicht-lg/looping-the
 -matrix-ancient-technologies-revisited
END:VEVENT
BEGIN:VTIMEZONE
TZID:Europe/Vienna
X-LIC-LOCATION:Europe/Vienna
BEGIN:DAYLIGHT
DTSTART:20230326T030000
TZNAME:CEST
TZOFFSETFROM:+0100
TZOFFSETTO:+0200
END:DAYLIGHT
END:VTIMEZONE
END:VCALENDAR
