BEGIN:VCALENDAR
VERSION:2.0
PRODID:-//Plone.org//NONSGML plone.app.event//EN
X-WR-TIMEZONE:Europe/Vienna
BEGIN:VEVENT
SUMMARY:To be made up of the Earth is not necessarily easy #4
DTSTART;TZID=Europe/Vienna:20230524T180000
DTSTAMP:20260423T083608Z
UID:bfb4dd5594d94b7182bafeee9994458e@www.akbild.ac.at
CATEGORIES:Vorträge / Veranstaltungen
CREATED:20230418T090715Z
DESCRIPTION:Lecture by Katrin Hornek
LAST-MODIFIED:20240802T103349Z
URL:https://www.akbild.ac.at/en/museum-and-exhibitions/Exhibit/exhibitions
 -events/current-exhibitions/2023/ich-kann-leider-auch-nicht-lg/to-be-made-
 up-of-the-earth-is-not-necessarily-easy-4
END:VEVENT
BEGIN:VTIMEZONE
TZID:Europe/Vienna
X-LIC-LOCATION:Europe/Vienna
BEGIN:DAYLIGHT
DTSTART:20230326T030000
TZNAME:CEST
TZOFFSETFROM:+0100
TZOFFSETTO:+0200
END:DAYLIGHT
END:VTIMEZONE
END:VCALENDAR
