BEGIN:VCALENDAR
VERSION:2.0
PRODID:-//Plone.org//NONSGML plone.app.event//EN
X-WR-TIMEZONE:Europe/Vienna
BEGIN:VEVENT
SUMMARY:Über Malerei: Theater als Bild – vice versa / Gloria Pagliani\,
  Alice Dal Bello\, Alexander Harvey
DTSTART;TZID=Europe/Vienna:20231215T190000
DTSTAMP:20260424T000307Z
UID:7e9798963f1c49409b7021b4feb9b957@www.akbild.ac.at
CATEGORIES:Vorträge / Veranstaltungen
CREATED:20231205T090122Z
DESCRIPTION:On painting is a talk series initiated by the abstract paintin
 g studio in 2013. Students\, alumni\, faculty and quests meet do discuss c
 ontemporary painting exclusively through the means of original works
LAST-MODIFIED:20240802T103350Z
URL:https://www.akbild.ac.at/en/museum-and-exhibitions/Exhibit/exhibitions
 -events/current-exhibitions/2023/uber-malerei-theater-als-bild-vice-versa-
 gloria-pagliani-alice-dal-bello-alexander-harvey
END:VEVENT
BEGIN:VTIMEZONE
TZID:Europe/Vienna
X-LIC-LOCATION:Europe/Vienna
BEGIN:STANDARD
DTSTART:20231029T020000
TZNAME:CET
TZOFFSETFROM:+0200
TZOFFSETTO:+0100
END:STANDARD
END:VTIMEZONE
END:VCALENDAR
