BEGIN:VCALENDAR
VERSION:2.0
PRODID:-//Plone.org//NONSGML plone.app.event//EN
X-WR-TIMEZONE:Europe/Vienna
BEGIN:VEVENT
SUMMARY:Revisiting TransAct from today’s perspective
DTSTART;TZID=Europe/Vienna:20250130T173000
DTSTAMP:20260424T212848Z
UID:583992d3b8594e3cbe5b5380475b76c4@www.akbild.ac.at
CATEGORIES:Vorträge / Veranstaltungen
CREATED:20250107T195738Z
DESCRIPTION:Panel discussion with Nika Autor\, Yoshinori Niwa\, and Lisl P
 ongerModeration: Simon Nagy
LAST-MODIFIED:20250130T105833Z
URL:https://www.akbild.ac.at/en/museum-and-exhibitions/Exhibit/exhibitions
 -events/current-exhibitions/2024/das-cathrin-pichler-archiv-von-rpu-artaud
 -001-bis-dav-plakate-029/revisiting-transact-from-todays-perspective
END:VEVENT
BEGIN:VTIMEZONE
TZID:Europe/Vienna
X-LIC-LOCATION:Europe/Vienna
BEGIN:STANDARD
DTSTART:20241027T020000
TZNAME:CET
TZOFFSETFROM:+0200
TZOFFSETTO:+0100
END:STANDARD
END:VTIMEZONE
END:VCALENDAR
