BEGIN:VCALENDAR
VERSION:2.0
PRODID:-//Plone.org//NONSGML plone.app.event//EN
X-WR-TIMEZONE:Europe/Vienna
BEGIN:VEVENT
SUMMARY:Parcours 2024 Exhibit Eschenbachgasse
DTSTART;VALUE=DATE:20240618
DTEND;VALUE=DATE:20240701
DTSTAMP:20260423T230324Z
UID:0d29ccf1ceb74cd8b9b1e46823f2cb06@www.akbild.ac.at
CATEGORIES:Ausstellungen
CREATED:20240604T123030Z
DESCRIPTION:At Exhibit Eschenbachgasse you will find final presentations o
 f the Institute for Fine Arts.
LAST-MODIFIED:20240802T103346Z
URL:https://www.akbild.ac.at/en/museum-and-exhibitions/Exhibit/exhibitions
 -events/current-exhibitions/2024/parcours-2024-exhibit/parcours-2024-exhib
 it-eschenbachgasse
END:VEVENT
END:VCALENDAR
