BEGIN:VCALENDAR
VERSION:2.0
PRODID:-//Plone.org//NONSGML plone.app.event//EN
X-WR-TIMEZONE:Europe/Vienna
BEGIN:VEVENT
SUMMARY:Hopscotch Reading Room
DTSTART;TZID=Europe/Vienna:20240524T183000
DTSTAMP:20260423T114453Z
UID:276145aa9dbe4548b9450bdece165a9f@www.akbild.ac.at
CATEGORIES:Vorträge / Veranstaltungen
CREATED:20240422T111328Z
DESCRIPTION:Bookshop\, discourse platform\, political centre\, community s
 pace: The Hopscotch Reading Room is the first book and reading space in th
 e German-speaking world that\, as an intersectional space\, helps to make 
 visible groups that have no right to speak\, diaspora communities\, migran
 t literature and unpublished political and poetic thoughts.
LAST-MODIFIED:20240802T103346Z
URL:https://www.akbild.ac.at/en/museum-and-exhibitions/Exhibit/exhibitions
 -events/current-exhibitions/2024/soundscapes-of-intersectional-encounters-
 1/hopscotch-reading-room
END:VEVENT
BEGIN:VTIMEZONE
TZID:Europe/Vienna
X-LIC-LOCATION:Europe/Vienna
BEGIN:DAYLIGHT
DTSTART:20240331T030000
TZNAME:CEST
TZOFFSETFROM:+0100
TZOFFSETTO:+0200
END:DAYLIGHT
END:VTIMEZONE
END:VCALENDAR
