BEGIN:VCALENDAR
VERSION:2.0
PRODID:-//Plone.org//NONSGML plone.app.event//EN
X-WR-TIMEZONE:Europe/Vienna
BEGIN:VEVENT
SUMMARY:Sakina Teyna X Salah Ammo
DTSTART;TZID=Europe/Vienna:20240508T160000
DTEND;TZID=Europe/Vienna:20240508T173000
DTSTAMP:20260423T114609Z
UID:28c20e46d9ee4b37915c47944624adf8@www.akbild.ac.at
CATEGORIES:Vorträge / Veranstaltungen
CREATED:20240424T131318Z
DESCRIPTION:What happens if your home and homeland are just imaginations t
 hat have been gambled away by colonial powers – from the Osman Empire to
  the British and French repression to Turkish\, Iraqi\, and Syrian denial?
  How to communicate the beauty of one’s own voice when one has never hea
 rd it in public?
LAST-MODIFIED:20240802T103346Z
URL:https://www.akbild.ac.at/en/museum-and-exhibitions/Exhibit/exhibitions
 -events/current-exhibitions/2024/soundscapes-of-intersectional-encounters-
 1/sakina-teyna-x-salah-ammo
END:VEVENT
BEGIN:VTIMEZONE
TZID:Europe/Vienna
X-LIC-LOCATION:Europe/Vienna
BEGIN:DAYLIGHT
DTSTART:20240331T030000
TZNAME:CEST
TZOFFSETFROM:+0100
TZOFFSETTO:+0200
END:DAYLIGHT
END:VTIMEZONE
END:VCALENDAR
