BEGIN:VCALENDAR
VERSION:2.0
PRODID:-//Plone.org//NONSGML plone.app.event//EN
X-WR-TIMEZONE:Europe/Vienna
BEGIN:VEVENT
SUMMARY:Soundscapes Curators Tour
DTSTART;TZID=Europe/Vienna:20240502T160000
DTEND;TZID=Europe/Vienna:20240502T173000
DTSTAMP:20260425T201429Z
UID:bbd2d9847fd04c559010f88ff5346aef@www.akbild.ac.at
CREATED:20240320T093657Z
DESCRIPTION:Three teachers and educators\, curators and artists: Janine Je
 mbere\, Zehra Baraçkılıç\, and Ruby Sircar will talk about voices\, so
 und\, music\, lyrics\, creating audible texts and discussing the possibili
 ties of teaching emotions as academic techniques and accepting didactics t
 o be still colonized – how to change them? And is it possible to teach n
 on-linear narratives?
LAST-MODIFIED:20240802T103346Z
URL:https://www.akbild.ac.at/en/museum-and-exhibitions/Exhibit/exhibitions
 -events/current-exhibitions/2024/soundscapes-of-intersectional-encounters-
 1/soundscapes-curators-tour
END:VEVENT
BEGIN:VTIMEZONE
TZID:Europe/Vienna
X-LIC-LOCATION:Europe/Vienna
BEGIN:DAYLIGHT
DTSTART:20240331T030000
TZNAME:CEST
TZOFFSETFROM:+0100
TZOFFSETTO:+0200
END:DAYLIGHT
END:VTIMEZONE
END:VCALENDAR
