BEGIN:VCALENDAR
VERSION:2.0
PRODID:-//Plone.org//NONSGML plone.app.event//EN
X-WR-TIMEZONE:Europe/Vienna
BEGIN:VEVENT
SUMMARY:Exhibition tours with the art information of the Exhibit Gallery
DTSTART;TZID=Europe/Vienna:20251010T160000
DTSTAMP:20260423T145346Z
UID:0305c0895b954b4a9060d89c3fd67b33@www.akbild.ac.at
CATEGORIES:Vorträge / Veranstaltungen
CREATED:20250930T081343Z
DESCRIPTION:A guided tour of the exhibition Care – Between Tenderness an
 d Resistance in the Exhibit Gallery.
LAST-MODIFIED:20250930T081949Z
URL:https://www.akbild.ac.at/en/museum-and-exhibitions/Exhibit/exhibitions
 -events/current-exhibitions/2025/care-between-tenderness-and-resistance/ex
 hibition-tours-with-the-art-information-of-the-exhibit-gallery-1
END:VEVENT
BEGIN:VTIMEZONE
TZID:Europe/Vienna
X-LIC-LOCATION:Europe/Vienna
BEGIN:DAYLIGHT
DTSTART:20250330T030000
TZNAME:CEST
TZOFFSETFROM:+0100
TZOFFSETTO:+0200
END:DAYLIGHT
END:VTIMEZONE
END:VCALENDAR
