BEGIN:VCALENDAR
VERSION:2.0
PRODID:-//Plone.org//NONSGML plone.app.event//EN
X-WR-TIMEZONE:Europe/Vienna
BEGIN:VEVENT
SUMMARY:Exhibition tours with the art information of the Exhibit Gallery
DTSTART;TZID=Europe/Vienna:20251004T150000
DTSTAMP:20260423T162337Z
UID:39ff27cf1d8a40e2bb522cbf9ec84f05@www.akbild.ac.at
CATEGORIES:Vorträge / Veranstaltungen
CREATED:20250925T131911Z
DESCRIPTION:A guided tour of the exhibition Care – Between Tenderness an
 d Resistance in the Exhibit Gallery.
LAST-MODIFIED:20250925T131927Z
URL:https://www.akbild.ac.at/en/museum-and-exhibitions/Exhibit/exhibitions
 -events/current-exhibitions/2025/care-between-tenderness-and-resistance/ex
 hibition-tours-with-the-art-information-of-the-exhibit-gallery
END:VEVENT
BEGIN:VTIMEZONE
TZID:Europe/Vienna
X-LIC-LOCATION:Europe/Vienna
BEGIN:DAYLIGHT
DTSTART:20250330T030000
TZNAME:CEST
TZOFFSETFROM:+0100
TZOFFSETTO:+0200
END:DAYLIGHT
END:VTIMEZONE
END:VCALENDAR
