BEGIN:VCALENDAR
VERSION:2.0
PRODID:-//Plone.org//NONSGML plone.app.event//EN
X-WR-TIMEZONE:Europe/Vienna
BEGIN:VEVENT
SUMMARY:Opening [em]Care – between Tenderness and Resistance[/em]
DTSTART;TZID=Europe/Vienna:20250904T180000
DTSTAMP:20260423T162245Z
UID:4f212141023e4bb896a556646211a174@www.akbild.ac.at
CATEGORIES:Vorträge / Veranstaltungen
CREATED:20250709T095241Z
DESCRIPTION:An exhibition in the course of Mentoring Program Art.In a time
  of multiple crises – ecological destruction\, social fragmentation\, an
 d political polarization – care emerges as a central reference point for
  alternative forms of living together.
LAST-MODIFIED:20250825T121424Z
URL:https://www.akbild.ac.at/en/museum-and-exhibitions/Exhibit/exhibitions
 -events/current-exhibitions/2025/care-between-tenderness-and-resistance/op
 ening-em-care-between-tenderness-and-resistance-em
END:VEVENT
BEGIN:VTIMEZONE
TZID:Europe/Vienna
X-LIC-LOCATION:Europe/Vienna
BEGIN:DAYLIGHT
DTSTART:20250330T030000
TZNAME:CEST
TZOFFSETFROM:+0100
TZOFFSETTO:+0200
END:DAYLIGHT
END:VTIMEZONE
END:VCALENDAR
