BEGIN:VCALENDAR
VERSION:2.0
PRODID:-//Plone.org//NONSGML plone.app.event//EN
X-WR-TIMEZONE:Europe/Vienna
BEGIN:VEVENT
SUMMARY:Radical strength - resilience & care as an artistic attitude
DTSTART;TZID=Europe/Vienna:20251009T180000
DTSTAMP:20260423T145327Z
UID:174234ef519b460681535503ed98682a@www.akbild.ac.at
CATEGORIES:Vorträge / Veranstaltungen
CREATED:20250904T093910Z
DESCRIPTION:Discussion with participants of the Mentoring Program Art as p
 art of the exhibition Care – between Tenderness and Resistance. Jannik F
 ranzen\, Anna Spanlang\, Sofie Thorsen and Andrea Zabric in discussion wit
 h Ingeborg Erhart andBarbara Pflanzner.
LAST-MODIFIED:20250918T121151Z
URL:https://www.akbild.ac.at/en/museum-and-exhibitions/Exhibit/exhibitions
 -events/current-exhibitions/2025/care-between-tenderness-and-resistance/ra
 dical-strength-resilience-care-as-an-artistic-attitude
END:VEVENT
BEGIN:VTIMEZONE
TZID:Europe/Vienna
X-LIC-LOCATION:Europe/Vienna
BEGIN:DAYLIGHT
DTSTART:20250330T030000
TZNAME:CEST
TZOFFSETFROM:+0100
TZOFFSETTO:+0200
END:DAYLIGHT
END:VTIMEZONE
END:VCALENDAR
