BEGIN:VCALENDAR
VERSION:2.0
PRODID:-//Plone.org//NONSGML plone.app.event//EN
X-WR-TIMEZONE:Europe/Vienna
BEGIN:VEVENT
SUMMARY:Screening [em]Nördlich von Libyen[/em]
DTSTART;TZID=Europe/Vienna:20251011T140000
DTSTAMP:20260423T145210Z
UID:d52bb9d3493a418d833867cc44e27fd9@www.akbild.ac.at
CATEGORIES:Vorträge / Veranstaltungen
CREATED:20250709T100601Z
DESCRIPTION:Screening Nördlich von Libyen (Luise Müller\, 2023) in coop
 eration with Stadtkino Wien\, followed by a discussion with the director.
LAST-MODIFIED:20251003T072017Z
URL:https://www.akbild.ac.at/en/museum-and-exhibitions/Exhibit/exhibitions
 -events/current-exhibitions/2025/care-between-tenderness-and-resistance/sc
 reening-em-nordlich-von-libyen-em
END:VEVENT
BEGIN:VTIMEZONE
TZID:Europe/Vienna
X-LIC-LOCATION:Europe/Vienna
BEGIN:DAYLIGHT
DTSTART:20250330T030000
TZNAME:CEST
TZOFFSETFROM:+0100
TZOFFSETTO:+0200
END:DAYLIGHT
END:VTIMEZONE
END:VCALENDAR
