BEGIN:VCALENDAR
VERSION:2.0
PRODID:-//Plone.org//NONSGML plone.app.event//EN
X-WR-TIMEZONE:Europe/Vienna
BEGIN:VEVENT
SUMMARY:Working with Care
DTSTART;TZID=Europe/Vienna:20250905T170000
DTSTAMP:20260423T175944Z
UID:992c315347234c5680aabd917e6e7df4@www.akbild.ac.at
CATEGORIES:Vorträge / Veranstaltungen
CREATED:20250825T071638Z
DESCRIPTION:Lecture by Elke Krasny as part of the exhibition Care – betw
 een Tenderness and Resistance.
LAST-MODIFIED:20250825T071644Z
URL:https://www.akbild.ac.at/en/museum-and-exhibitions/Exhibit/exhibitions
 -events/current-exhibitions/2025/care-between-tenderness-and-resistance/wo
 rking-with-care
END:VEVENT
BEGIN:VTIMEZONE
TZID:Europe/Vienna
X-LIC-LOCATION:Europe/Vienna
BEGIN:DAYLIGHT
DTSTART:20250330T030000
TZNAME:CEST
TZOFFSETFROM:+0100
TZOFFSETTO:+0200
END:DAYLIGHT
END:VTIMEZONE
END:VCALENDAR
