BEGIN:VCALENDAR
VERSION:2.0
PRODID:-//Plone.org//NONSGML plone.app.event//EN
X-WR-TIMEZONE:Europe/Vienna
BEGIN:VEVENT
SUMMARY:Curator's tour [em]SUCK MY CODE![/em] Vienna Art Week
DTSTART;TZID=Europe/Vienna:20251108T140000
DTEND;TZID=Europe/Vienna:20251108T150000
DTSTAMP:20260423T131927Z
UID:69cc2d2ccfff41879d5f47a3137b77e5@www.akbild.ac.at
CATEGORIES:Vorträge / Veranstaltungen
CREATED:20250925T133658Z
DESCRIPTION:In keeping with this year's theme of Vienna Art Week 2025\, "L
 earning Systems\," we'll examine the knowledge and economic systems surrou
 nding selected works of art. Together\, we want to ask ourselves which ide
 as about physicality in the digital space we want to (un)learn.
LAST-MODIFIED:20251118T090017Z
URL:https://www.akbild.ac.at/en/museum-and-exhibitions/Exhibit/exhibitions
 -events/current-exhibitions/2025/suck-my-code/curators-tour-em-suck-my-cod
 e-em-iz-by-vienna-art-week
END:VEVENT
BEGIN:VTIMEZONE
TZID:Europe/Vienna
X-LIC-LOCATION:Europe/Vienna
BEGIN:STANDARD
DTSTART:20251026T020000
TZNAME:CET
TZOFFSETFROM:+0200
TZOFFSETTO:+0100
END:STANDARD
END:VTIMEZONE
END:VCALENDAR
