BEGIN:VCALENDAR
VERSION:2.0
PRODID:-//Plone.org//NONSGML plone.app.event//EN
X-WR-TIMEZONE:Europe/Vienna
BEGIN:VEVENT
SUMMARY:Alexander Kluge - Guided tour in the Plaster Cast Collection
DTSTART;TZID=Europe/Vienna:20260213T160000
DTSTAMP:20260423T162401Z
UID:a6cbff516041407cbb313b86ef3065f8@www.akbild.ac.at
CREATED:20260108T144538Z
DESCRIPTION:Guided tour of the Plaster Cast Collection in the basement of 
 the Studio Building of the Academy as part of the exhibition At Night the 
 Backdrops Dream of Unseen Images - Alexander Kluge.
LAST-MODIFIED:20260211T144540Z
URL:https://www.akbild.ac.at/en/museum-and-exhibitions/Exhibit/exhibitions
 -events/current-exhibitions/2026/at-night-the-backdrops-dream-of-unseen-im
 ages/alexander-kluge-guided-tour-in-the-plaster-cast-collection
END:VEVENT
BEGIN:VTIMEZONE
TZID:Europe/Vienna
X-LIC-LOCATION:Europe/Vienna
BEGIN:STANDARD
DTSTART:20251026T020000
TZNAME:CET
TZOFFSETFROM:+0200
TZOFFSETTO:+0100
END:STANDARD
END:VTIMEZONE
END:VCALENDAR
