BEGIN:VCALENDAR
VERSION:2.0
PRODID:-//Plone.org//NONSGML plone.app.event//EN
X-WR-TIMEZONE:Europe/Vienna
BEGIN:VEVENT
SUMMARY:Discussion with Johan Hartle\, Alexander Kluge\, Christian Schulte
 \, Ulrike Sprenger\, Anna Viebrock
DTSTART;TZID=Europe/Vienna:20260206T140000
DTSTAMP:20260423T151753Z
UID:271a0b74725b416bb559aa1b027ff77c@www.akbild.ac.at
CATEGORIES:Vorträge / Veranstaltungen
CREATED:20260108T142427Z
DESCRIPTION:Event as part of the exhibition At Night the Backdrops Dream o
 f Unseen Images - Alexander Kluge.
LAST-MODIFIED:20260205T142431Z
URL:https://www.akbild.ac.at/en/museum-and-exhibitions/Exhibit/exhibitions
 -events/current-exhibitions/2026/at-night-the-backdrops-dream-of-unseen-im
 ages/discussion-with-johan-hartle-alexander-kluge-christian-schulte-ulrike
 -sprenger-anna-viebrock
END:VEVENT
BEGIN:VTIMEZONE
TZID:Europe/Vienna
X-LIC-LOCATION:Europe/Vienna
BEGIN:STANDARD
DTSTART:20251026T020000
TZNAME:CET
TZOFFSETFROM:+0200
TZOFFSETTO:+0100
END:STANDARD
END:VTIMEZONE
END:VCALENDAR
