BEGIN:VCALENDAR
VERSION:2.0
PRODID:-//Plone.org//NONSGML plone.app.event//EN
X-WR-TIMEZONE:Europe/Vienna
BEGIN:VEVENT
SUMMARY:Guided tour of the exhibition and talk
DTSTART;TZID=Europe/Vienna:20260214T160000
DTSTAMP:20260423T151746Z
UID:0bb146d21fc8408e9fa112a853409874@www.akbild.ac.at
CATEGORIES:Vorträge / Veranstaltungen
CREATED:20260108T143537Z
DESCRIPTION:Exclusive guided tour through the exhibition At Night the Back
 drops Dream of Unseen Images - Alexander Kluge by Ingeborg Erhart\, vice-r
 ector and Johan Hartle\, rector at the Prospekthof in the Studio Building 
 of the Academy followed by a talk with Alexander Kluge at the Austrian Fil
 m Museum.
LAST-MODIFIED:20260210T130242Z
URL:https://www.akbild.ac.at/en/museum-and-exhibitions/Exhibit/exhibitions
 -events/current-exhibitions/2026/at-night-the-backdrops-dream-of-unseen-im
 ages/guided-tour-of-the-exhibition-and-talk
END:VEVENT
BEGIN:VTIMEZONE
TZID:Europe/Vienna
X-LIC-LOCATION:Europe/Vienna
BEGIN:STANDARD
DTSTART:20251026T020000
TZNAME:CET
TZOFFSETFROM:+0200
TZOFFSETTO:+0100
END:STANDARD
END:VTIMEZONE
END:VCALENDAR
