BEGIN:VCALENDAR
VERSION:2.0
PRODID:-//Plone.org//NONSGML plone.app.event//EN
X-WR-TIMEZONE:Europe/Vienna
BEGIN:VEVENT
SUMMARY:Curator’s Tours
DTSTART;TZID=Europe/Vienna:20201116T170000
DTSTAMP:20260423T045053Z
UID:05a2bf3b6a61f0fcbc505373baabe83e@www.akbild.ac.at
CATEGORIES:Vorträge / Veranstaltungen
CREATED:20220312T191528Z
DESCRIPTION:The curators and artists will guide you through the exhibition
  and provide insight into the content of the works and the concept of the 
 presentation.
LAST-MODIFIED:20240802T103405Z
URL:https://www.akbild.ac.at/en/museum-and-exhibitions/Exhibit/exhibitions
 -events/events/2020/curator2019s-tours
END:VEVENT
BEGIN:VTIMEZONE
TZID:Europe/Vienna
X-LIC-LOCATION:Europe/Vienna
BEGIN:STANDARD
DTSTART:20201025T020000
TZNAME:CET
TZOFFSETFROM:+0200
TZOFFSETTO:+0100
END:STANDARD
END:VTIMEZONE
END:VCALENDAR
