BEGIN:VCALENDAR
VERSION:2.0
PRODID:-//Plone.org//NONSGML plone.app.event//EN
X-WR-TIMEZONE:Europe/Vienna
BEGIN:VEVENT
SUMMARY:Ecologically Responsible Exhibition-Making
DTSTART;TZID=Europe/Vienna:20221019T170000
DTSTAMP:20260424T144849Z
UID:816a0df67f1647298c30e1d7de4d422b@www.akbild.ac.at
CATEGORIES:Vorträge / Veranstaltungen
CREATED:20220929T095711Z
DESCRIPTION:A panel discussion in context of the Climate Action October w
 ith curator Ewa Chomicka\, sustainability consultant Christopher J. Garthe
 \, and cultural theorist Elke Krasny\, moderated by curators Mirela Baciak
  and Fanny Hauser.
LAST-MODIFIED:20240802T103405Z
URL:https://www.akbild.ac.at/en/museum-and-exhibitions/Exhibit/exhibitions
 -events/events/2022/ecologically-responsible-exhibition-making
END:VEVENT
BEGIN:VTIMEZONE
TZID:Europe/Vienna
X-LIC-LOCATION:Europe/Vienna
BEGIN:DAYLIGHT
DTSTART:20220327T030000
TZNAME:CEST
TZOFFSETFROM:+0100
TZOFFSETTO:+0200
END:DAYLIGHT
END:VTIMEZONE
END:VCALENDAR
