BEGIN:VCALENDAR
VERSION:2.0
PRODID:-//Plone.org//NONSGML plone.app.event//EN
X-WR-TIMEZONE:Europe/Vienna
BEGIN:VEVENT
SUMMARY:On Painting: digging as a synonym for painting
DTSTART;TZID=Europe/Vienna:20221116T190000
DTSTAMP:20260423T132114Z
UID:7b10d2eb1ba44b2b9e184925c73734e1@www.akbild.ac.at
CATEGORIES:Vorträge / Veranstaltungen
CREATED:20221110T162041Z
DESCRIPTION:On Painting is a talk series initiated by the abstract paintin
 g studio in 2013. Students\, alumni\, faculty and guests meet to discuss 
 contemporary painting exclusively through the means of original works.
LAST-MODIFIED:20240802T103405Z
URL:https://www.akbild.ac.at/en/museum-and-exhibitions/Exhibit/exhibitions
 -events/events/2022/on-painting-digging-as-a-synonym-for-painting
END:VEVENT
BEGIN:VTIMEZONE
TZID:Europe/Vienna
X-LIC-LOCATION:Europe/Vienna
BEGIN:STANDARD
DTSTART:20221030T020000
TZNAME:CET
TZOFFSETFROM:+0200
TZOFFSETTO:+0100
END:STANDARD
END:VTIMEZONE
END:VCALENDAR
