BEGIN:VCALENDAR
VERSION:2.0
PRODID:-//Plone.org//NONSGML plone.app.event//EN
X-WR-TIMEZONE:Europe/Vienna
BEGIN:VEVENT
SUMMARY:On Painting: Image Cut
DTSTART;TZID=Europe/Vienna:20221013T190000
DTSTAMP:20260421T170829Z
UID:6973754361614dcb97cc8b69eb909a2e@www.akbild.ac.at
CATEGORIES:Vorträge / Veranstaltungen
CREATED:20220929T081231Z
DESCRIPTION:On Painting is a talk series initiated by the abstract paintin
 g studio in 2013. Students\, alumni\, faculty and guests meet to discuss 
 contemporary painting exclusively through the means of original works.
LAST-MODIFIED:20240802T103405Z
URL:https://www.akbild.ac.at/en/museum-and-exhibitions/Exhibit/exhibitions
 -events/events/2022/on-painting-image-cut
END:VEVENT
BEGIN:VTIMEZONE
TZID:Europe/Vienna
X-LIC-LOCATION:Europe/Vienna
BEGIN:DAYLIGHT
DTSTART:20220327T030000
TZNAME:CEST
TZOFFSETFROM:+0100
TZOFFSETTO:+0200
END:DAYLIGHT
END:VTIMEZONE
END:VCALENDAR
