BEGIN:VCALENDAR
VERSION:2.0
PRODID:-//Plone.org//NONSGML plone.app.event//EN
X-WR-TIMEZONE:Europe/Vienna
BEGIN:VEVENT
SUMMARY:Opening Events: Conditions and Frameworks: Infrastructure as Form 
 and Medium
DTSTART;TZID=Europe/Vienna:20220308T180000
DTSTAMP:20260425T003758Z
UID:5ba6ba889b78a1b0f985cb8c3b705134@www.akbild.ac.at
CATEGORIES:Vorträge / Veranstaltungen
CREATED:20220312T191703Z
DESCRIPTION:On March 8\, 2022 the exhibition  Conditions and Frameworks: I
 nfrastructure as Form and Medium  at Exhibit Galerie and Exhibit Eschenbac
 hgasse. The opening ceremony will take place from 6 pm on in the Aula. In 
 addition\, there will be an intervention by Hanna Kučera and Kristyna Nyt
 rova (7 pm) at Eschenbachgasse\, as well as a presentation of VAN Art Spac
 e (starting at 6 pm) in front of the main building of the Academy. At 9 pm
 \, the Nightwalk  Feminist Nightscapes  will take place on Zoom.
LAST-MODIFIED:20240802T103405Z
URL:https://www.akbild.ac.at/en/museum-and-exhibitions/Exhibit/exhibitions
 -events/events/2022/opening-events-einrichtung-und-gegebenheit.-infrastruk
 tur-als-form-und-handlung
END:VEVENT
BEGIN:VTIMEZONE
TZID:Europe/Vienna
X-LIC-LOCATION:Europe/Vienna
BEGIN:STANDARD
DTSTART:20211031T020000
TZNAME:CET
TZOFFSETFROM:+0200
TZOFFSETTO:+0100
END:STANDARD
END:VTIMEZONE
END:VCALENDAR
