BEGIN:VCALENDAR
VERSION:2.0
PRODID:-//Plone.org//NONSGML plone.app.event//EN
X-WR-TIMEZONE:Europe/Vienna
BEGIN:VEVENT
SUMMARY:Friedrich Kurrent: 55 Reiseskizzenbücher aus 55 Jahren\, 1956–2
 011
DTSTART;TZID=Europe/Vienna:20150527T180000
DTSTAMP:20260424T015808Z
UID:deacc85734a5d7a4dfd3e7aae054ebb6@www.akbild.ac.at
CREATED:20220312T192733Z
DESCRIPTION:Präsentation anlässlich der Schenkung Friedrich Kurrent an d
 as Kupferstichkabinett der Akademie der bildenden Künste Wien
LAST-MODIFIED:20240802T103444Z
URL:https://www.akbild.ac.at/en/museum-and-exhibitions/art-collections/cur
 rent/graphic-collection/lectures-events/2015/friedrich-kurrent-55-reiseski
 zzenbuecher-aus-55-jahren-195620132011
END:VEVENT
BEGIN:VTIMEZONE
TZID:Europe/Vienna
X-LIC-LOCATION:Europe/Vienna
BEGIN:DAYLIGHT
DTSTART:20150329T030000
TZNAME:CEST
TZOFFSETFROM:+0100
TZOFFSETTO:+0200
END:DAYLIGHT
END:VTIMEZONE
END:VCALENDAR
