BEGIN:VCALENDAR
VERSION:2.0
PRODID:-//Plone.org//NONSGML plone.app.event//EN
X-WR-TIMEZONE:Europe/Vienna
BEGIN:VEVENT
SUMMARY:Natura Morta
DTSTART;TZID=Europe/Vienna:20170426T183000
DTSTAMP:20260423T173516Z
UID:6e5ca12741417145635152077c3f8551@www.akbild.ac.at
CREATED:20220312T192142Z
DESCRIPTION:Natura Morta. Photography by Oliver Mark in Dialogue with Stil
 l Life Paintings in the Collection\n \n \n In cooperation with the Natural
  History Museum Vienna
LAST-MODIFIED:20240802T103424Z
URL:https://www.akbild.ac.at/en/museum-and-exhibitions/art-collections/cur
 rent/paintingsgallery/exhibitions/2017/natura-morta/SubEvent
END:VEVENT
BEGIN:VTIMEZONE
TZID:Europe/Vienna
X-LIC-LOCATION:Europe/Vienna
BEGIN:DAYLIGHT
DTSTART:20170326T030000
TZNAME:CEST
TZOFFSETFROM:+0100
TZOFFSETTO:+0200
END:DAYLIGHT
END:VTIMEZONE
END:VCALENDAR
