BEGIN:VCALENDAR
VERSION:2.0
PRODID:-//Plone.org//NONSGML plone.app.event//EN
X-WR-TIMEZONE:Europe/Vienna
BEGIN:VEVENT
SUMMARY:Creative workshop for children (6–12 years) as part of Innere St
 adt spielt
DTSTART;TZID=Europe/Vienna:20220803T110000
DTEND;TZID=Europe/Vienna:20220803T123000
DTSTAMP:20260423T013102Z
UID:169db7da01b84d97ac177f6a19cc01e6@www.akbild.ac.at
CATEGORIES:Führungen / Veranstaltungen
CREATED:20220811T104632Z
DESCRIPTION:Unusual fashion\, mysterious stories and impressive pictures w
 ith scary monsters: discover the colourful worlds in the art of the past c
 enturies. Let yourself be inspired and paint your own picture in the Paint
 ings Gallery!
LAST-MODIFIED:20240802T103424Z
URL:https://www.akbild.ac.at/en/museum-and-exhibitions/art-collections/cur
 rent/paintingsgallery/exhibitions/2022/copy_of_the-purloined-masterpiece-i
 mages-as-time-machines/creative-ws-220803-11
END:VEVENT
BEGIN:VTIMEZONE
TZID:Europe/Vienna
X-LIC-LOCATION:Europe/Vienna
BEGIN:DAYLIGHT
DTSTART:20220327T030000
TZNAME:CEST
TZOFFSETFROM:+0100
TZOFFSETTO:+0200
END:DAYLIGHT
END:VTIMEZONE
END:VCALENDAR
