BEGIN:VCALENDAR
VERSION:2.0
PRODID:-//Plone.org//NONSGML plone.app.event//EN
X-WR-TIMEZONE:Europe/Vienna
BEGIN:VEVENT
SUMMARY:Like a mirror of nature? Paintings and deep dives – seascapes an
 d still lifes
DTSTART;TZID=Europe/Vienna:20220925T143000
DTEND;TZID=Europe/Vienna:20220925T160000
DTSTAMP:20260423T084756Z
UID:1174b5b3012b4e33aee552e8e18dd07a@www.akbild.ac.at
CATEGORIES:Führungen / Veranstaltungen
CREATED:20220811T172037Z
DESCRIPTION:Workshop for children aged 6 to 12 years
LAST-MODIFIED:20240802T103424Z
URL:https://www.akbild.ac.at/en/museum-and-exhibitions/art-collections/cur
 rent/paintingsgallery/exhibitions/2022/copy_of_the-purloined-masterpiece-i
 mages-as-time-machines/likeamirrow-kws220925
END:VEVENT
BEGIN:VTIMEZONE
TZID:Europe/Vienna
X-LIC-LOCATION:Europe/Vienna
BEGIN:DAYLIGHT
DTSTART:20220327T030000
TZNAME:CEST
TZOFFSETFROM:+0100
TZOFFSETTO:+0200
END:DAYLIGHT
END:VTIMEZONE
END:VCALENDAR
