BEGIN:VCALENDAR
VERSION:2.0
PRODID:-//Plone.org//NONSGML plone.app.event//EN
X-WR-TIMEZONE:Europe/Vienna
BEGIN:VEVENT
SUMMARY:Sunday tour
DTSTART;TZID=Europe/Vienna:20220501T103000
DTSTAMP:20260425T165130Z
UID:9d9f5fedb6a6469aabc8fdd194c8a0a4@www.akbild.ac.at
CATEGORIES:Führungen / Veranstaltungen
CREATED:20220331T133131Z
DESCRIPTION:An art educator of the Paintings Gallery of the Academy of Fin
 e Arts Vienna accompanies you in the exhibition.
LAST-MODIFIED:20240802T103424Z
URL:https://www.akbild.ac.at/en/museum-and-exhibitions/art-collections/cur
 rent/paintingsgallery/exhibitions/2022/copy_of_the-purloined-masterpiece-i
 mages-as-time-machines/sunday-tour-20220501
END:VEVENT
BEGIN:VTIMEZONE
TZID:Europe/Vienna
X-LIC-LOCATION:Europe/Vienna
BEGIN:DAYLIGHT
DTSTART:20220327T030000
TZNAME:CEST
TZOFFSETFROM:+0100
TZOFFSETTO:+0200
END:DAYLIGHT
END:VTIMEZONE
END:VCALENDAR
