BEGIN:VCALENDAR
VERSION:2.0
PRODID:-//Plone.org//NONSGML plone.app.event//EN
X-WR-TIMEZONE:Europe/Vienna
BEGIN:VEVENT
SUMMARY:Sunday tour
DTSTART;TZID=Europe/Vienna:20221030T103000
DTSTAMP:20260425T165113Z
UID:221b4cae26ed4bbf83f62a7ed6204fc2@www.akbild.ac.at
CATEGORIES:Führungen / Veranstaltungen
CREATED:20220331T133131Z
DESCRIPTION:An art educator of the Paintings Gallery of the Academy of Fin
 e Arts Vienna accompanies you in the exhibition.
LAST-MODIFIED:20240802T103428Z
URL:https://www.akbild.ac.at/en/museum-and-exhibitions/art-collections/cur
 rent/paintingsgallery/exhibitions/2022/copy_of_the-purloined-masterpiece-i
 mages-as-time-machines/sunday-tour-221030
END:VEVENT
BEGIN:VTIMEZONE
TZID:Europe/Vienna
X-LIC-LOCATION:Europe/Vienna
BEGIN:STANDARD
DTSTART:20221030T020000
TZNAME:CET
TZOFFSETFROM:+0200
TZOFFSETTO:+0100
END:STANDARD
END:VTIMEZONE
END:VCALENDAR
