BEGIN:VCALENDAR
VERSION:2.0
PRODID:-//Plone.org//NONSGML plone.app.event//EN
X-WR-TIMEZONE:Europe/Vienna
BEGIN:VEVENT
SUMMARY:Opening [em]Considering the Collection[/em] & [em]Cranach’s Holy
  Productivity An Insert by Klaus Scherübel[/em]
DTSTART;TZID=Europe/Vienna:20240625T190000
DTSTAMP:20260424T103258Z
UID:90e36b167bd543dbbe305e4bf374269a@www.akbild.ac.at
CATEGORIES:Führungen / Veranstaltungen
CREATED:20230905T094004Z
LAST-MODIFIED:20250220T155538Z
URL:https://www.akbild.ac.at/en/museum-and-exhibitions/art-collections/cur
 rent/paintingsgallery/exhibitions/2024/exhibition-cranachs-klaus/cranach-o
 pening
END:VEVENT
BEGIN:VTIMEZONE
TZID:Europe/Vienna
X-LIC-LOCATION:Europe/Vienna
BEGIN:DAYLIGHT
DTSTART:20240331T030000
TZNAME:CEST
TZOFFSETFROM:+0100
TZOFFSETTO:+0200
END:DAYLIGHT
END:VTIMEZONE
END:VCALENDAR
