BEGIN:VCALENDAR
VERSION:2.0
PRODID:-//Plone.org//NONSGML plone.app.event//EN
X-WR-TIMEZONE:Europe/Vienna
BEGIN:VEVENT
SUMMARY:Creative Workshop in the Paintings Gallery for children (ages 6 to
  12)
DTSTART;TZID=Europe/Vienna:20240802T143000
DTSTAMP:20260423T030051Z
UID:aca66b9afe404019bbd4803badbe04f1@www.akbild.ac.at
CATEGORIES:Führungen / Veranstaltungen
CREATED:20230303T135311Z
DESCRIPTION:Who’s in this picture? Picture and story workshop
LAST-MODIFIED:20240802T103440Z
URL:https://www.akbild.ac.at/en/museum-and-exhibitions/art-collections/cur
 rent/paintingsgallery/exhibitions/2024/exhibition-cranachs-klaus/kidsws-24
 0802-1430
END:VEVENT
BEGIN:VTIMEZONE
TZID:Europe/Vienna
X-LIC-LOCATION:Europe/Vienna
BEGIN:DAYLIGHT
DTSTART:20240331T030000
TZNAME:CEST
TZOFFSETFROM:+0100
TZOFFSETTO:+0200
END:DAYLIGHT
END:VTIMEZONE
END:VCALENDAR
