BEGIN:VCALENDAR
VERSION:2.0
PRODID:-//Plone.org//NONSGML plone.app.event//EN
X-WR-TIMEZONE:Europe/Vienna
BEGIN:VEVENT
SUMMARY:Wild Apollo’s Arrows. Klopstock Cult & Ossian Fever
DTSTART;TZID=Europe/Vienna:20250520T163000
DTSTAMP:20260424T172222Z
UID:86bcbd0794014efaa0822bc21a4a23f3@www.akbild.ac.at
CATEGORIES:Führungen / Veranstaltungen
CREATED:20250220T153813Z
DESCRIPTION:Curator's tour with Alexander Roob
LAST-MODIFIED:20250429T170014Z
URL:https://www.akbild.ac.at/en/museum-and-exhibitions/art-collections/cur
 rent/paintingsgallery/exhibitions/2025/exhibition-apollo/curators-tour-apo
 llo-20250520
END:VEVENT
BEGIN:VTIMEZONE
TZID:Europe/Vienna
X-LIC-LOCATION:Europe/Vienna
BEGIN:DAYLIGHT
DTSTART:20250330T030000
TZNAME:CEST
TZOFFSETFROM:+0100
TZOFFSETTO:+0200
END:DAYLIGHT
END:VTIMEZONE
END:VCALENDAR
