BEGIN:VCALENDAR
VERSION:2.0
PRODID:-//Plone.org//NONSGML plone.app.event//EN
X-WR-TIMEZONE:Europe/Vienna
BEGIN:VEVENT
SUMMARY:Wild Apollo’s Arrows. Klopstock Cult & Ossian Fever
DTSTART;TZID=Europe/Vienna:20250308T160000
DTSTAMP:20260423T102130Z
UID:3f72f3db43b64729800141e08addba08@www.akbild.ac.at
CATEGORIES:Führungen / Veranstaltungen
CREATED:20250220T153813Z
DESCRIPTION:Curator's tour with Alexander Roob
LAST-MODIFIED:20250225T140223Z
URL:https://www.akbild.ac.at/en/museum-and-exhibitions/art-collections/cur
 rent/paintingsgallery/exhibitions/2025/exhibition-apollo/curators-tour-apo
 llo
END:VEVENT
BEGIN:VTIMEZONE
TZID:Europe/Vienna
X-LIC-LOCATION:Europe/Vienna
BEGIN:STANDARD
DTSTART:20241027T020000
TZNAME:CET
TZOFFSETFROM:+0200
TZOFFSETTO:+0100
END:STANDARD
END:VTIMEZONE
END:VCALENDAR
