BEGIN:VCALENDAR
VERSION:2.0
PRODID:-//Plone.org//NONSGML plone.app.event//EN
X-WR-TIMEZONE:Europe/Vienna
BEGIN:VEVENT
SUMMARY:Exhibition Opening Wild Apollo’s Arrows. Klopstock Cult & Ossian
  Fever
DTSTART;TZID=Europe/Vienna:20250306T190000
DTSTAMP:20260423T114447Z
UID:a7f6e2fe5aae40c98a786a702fd558ac@www.akbild.ac.at
CATEGORIES:Führungen / Veranstaltungen
CREATED:20250220T153813Z
LAST-MODIFIED:20250221T102900Z
URL:https://www.akbild.ac.at/en/museum-and-exhibitions/art-collections/cur
 rent/paintingsgallery/exhibitions/2025/exhibition-apollo/exhibition-openin
 g-apollo
END:VEVENT
BEGIN:VTIMEZONE
TZID:Europe/Vienna
X-LIC-LOCATION:Europe/Vienna
BEGIN:STANDARD
DTSTART:20241027T020000
TZNAME:CET
TZOFFSETFROM:+0200
TZOFFSETTO:+0100
END:STANDARD
END:VTIMEZONE
END:VCALENDAR
