BEGIN:VCALENDAR
VERSION:2.0
PRODID:-//Plone.org//NONSGML plone.app.event//EN
X-WR-TIMEZONE:Europe/Vienna
BEGIN:VEVENT
SUMMARY:Klopstock’s Sound and Ossian’s Voices
DTSTART;TZID=Europe/Vienna:20250520T183000
DTSTAMP:20260423T102136Z
UID:d8e366ee6b274d62ba80fe465c3b626f@www.akbild.ac.at
CATEGORIES:Führungen / Veranstaltungen
CREATED:20250313T170535Z
LAST-MODIFIED:20250515T144244Z
URL:https://www.akbild.ac.at/en/museum-and-exhibitions/art-collections/cur
 rent/paintingsgallery/exhibitions/2025/exhibition-apollo/lesson-20250520
END:VEVENT
BEGIN:VTIMEZONE
TZID:Europe/Vienna
X-LIC-LOCATION:Europe/Vienna
BEGIN:DAYLIGHT
DTSTART:20250330T030000
TZNAME:CEST
TZOFFSETFROM:+0100
TZOFFSETTO:+0200
END:DAYLIGHT
END:VTIMEZONE
END:VCALENDAR
