BEGIN:VCALENDAR
VERSION:2.0
PRODID:-//Plone.org//NONSGML plone.app.event//EN
X-WR-TIMEZONE:Europe/Vienna
BEGIN:VEVENT
SUMMARY:Wild Apollo’s Arrows. Klopstock Cult & Ossian Fever
DTSTART;TZID=Europe/Vienna:20250525T160000
DTSTAMP:20260423T101312Z
UID:83a57ce98711442fa26673e79791703c@www.akbild.ac.at
CATEGORIES:Führungen / Veranstaltungen
CREATED:20250220T153813Z
LAST-MODIFIED:20250430T163520Z
URL:https://www.akbild.ac.at/en/museum-and-exhibitions/art-collections/cur
 rent/paintingsgallery/exhibitions/2025/exhibition-apollo/tour-apollo-2025-
 05-25
END:VEVENT
BEGIN:VTIMEZONE
TZID:Europe/Vienna
X-LIC-LOCATION:Europe/Vienna
BEGIN:DAYLIGHT
DTSTART:20250330T030000
TZNAME:CEST
TZOFFSETFROM:+0100
TZOFFSETTO:+0200
END:DAYLIGHT
END:VTIMEZONE
END:VCALENDAR
