BEGIN:VCALENDAR
VERSION:2.0
PRODID:-//Plone.org//NONSGML plone.app.event//EN
X-WR-TIMEZONE:Europe/Vienna
BEGIN:VEVENT
SUMMARY:A Vista on Italy and France – Curator’s Tour with Martina Flei
 scher
DTSTART;TZID=Europe/Vienna:20250614T160000
DTSTAMP:20260424T170133Z
UID:35ac8db00daa40dca62e46cda2bcd186@www.akbild.ac.at
CATEGORIES:Führungen / Veranstaltungen
CREATED:20230303T135311Z
LAST-MODIFIED:20250603T155342Z
URL:https://www.akbild.ac.at/en/museum-and-exhibitions/art-collections/cur
 rent/paintingsgallery/exhibitions/2025/exhibition-collection-vista/curator
 stour-250614
END:VEVENT
BEGIN:VTIMEZONE
TZID:Europe/Vienna
X-LIC-LOCATION:Europe/Vienna
BEGIN:DAYLIGHT
DTSTART:20250330T030000
TZNAME:CEST
TZOFFSETFROM:+0100
TZOFFSETTO:+0200
END:DAYLIGHT
END:VTIMEZONE
END:VCALENDAR
