BEGIN:VCALENDAR
VERSION:2.0
PRODID:-//Plone.org//NONSGML plone.app.event//EN
X-WR-TIMEZONE:Europe/Vienna
BEGIN:VEVENT
SUMMARY:Drawing is thinking with a pencil. Our first sketchbook (German)
DTSTART;TZID=Europe/Vienna:20211113T103000
DTSTAMP:20260423T101111Z
UID:2ce7f4bf6775d7b4da409ee06e796893@www.akbild.ac.at
CATEGORIES:Führungen / Veranstaltungen
CREATED:20220312T192349Z
DESCRIPTION:Workshop for children and youths between 8 and 14 years old: F
 reely and informally\, we record everything we see in\n \n  Hungry for Tim
 e\n \n . With these impressions we start into our own sketchbook. Whether 
 using ballpoint pen\, graphite\, charcoal or chalk: Looking at old and new
  art helps us to discover a very personal idiom with the material of your 
 choice.
LAST-MODIFIED:20240802T103440Z
URL:https://www.akbild.ac.at/en/museum-and-exhibitions/art-collections/cur
 rent/paintingsgallery/guided-tours-events/2021/Drawing-is-thinking%20with%
 20a%20pencil
END:VEVENT
BEGIN:VTIMEZONE
TZID:Europe/Vienna
X-LIC-LOCATION:Europe/Vienna
BEGIN:STANDARD
DTSTART:20211031T020000
TZNAME:CET
TZOFFSETFROM:+0200
TZOFFSETTO:+0100
END:STANDARD
END:VTIMEZONE
END:VCALENDAR
