BEGIN:VCALENDAR
VERSION:2.0
PRODID:-//Plone.org//NONSGML plone.app.event//EN
X-WR-TIMEZONE:Europe/Vienna
BEGIN:VEVENT
SUMMARY:Exhibition Talk (English)
DTSTART;TZID=Europe/Vienna:20211009T033000
DTSTAMP:20260425T032307Z
UID:22b8f83794cd3db5c68e8f3372e4bb10@www.akbild.ac.at
CATEGORIES:Führungen / Veranstaltungen
CREATED:20220312T192305Z
DESCRIPTION:Rector Johan F. Hartle in conversation with Raqs Media Collect
 ive about the exhibition\n  \n   Hungry for Time
LAST-MODIFIED:20240802T103440Z
URL:https://www.akbild.ac.at/en/museum-and-exhibitions/art-collections/cur
 rent/paintingsgallery/guided-tours-events/2021/ausstellungs-talk
END:VEVENT
BEGIN:VTIMEZONE
TZID:Europe/Vienna
X-LIC-LOCATION:Europe/Vienna
BEGIN:DAYLIGHT
DTSTART:20210328T030000
TZNAME:CEST
TZOFFSETFROM:+0100
TZOFFSETTO:+0200
END:DAYLIGHT
END:VTIMEZONE
END:VCALENDAR
