BEGIN:VCALENDAR
VERSION:2.0
PRODID:-//Plone.org//NONSGML plone.app.event//EN
X-WR-TIMEZONE:Europe/Vienna
BEGIN:VEVENT
SUMMARY:Tandem Overview Tour (German)
DTSTART;TZID=Europe/Vienna:20211010T033000
DTSTAMP:20260425T031455Z
UID:d975a00d3894ec870551b3c65b12c74e@www.akbild.ac.at
CATEGORIES:Führungen / Veranstaltungen
CREATED:20220312T192317Z
DESCRIPTION:Tandem Overview Tour (German) in the exhibitions\n  \n   Hungr
 y for Time\n  \n  and\n  \n   Thicket of Ideas – Thicket of Times\n  \n 
  with art educators in the Paintings Gallery and the Art Information Desk.
LAST-MODIFIED:20240802T103440Z
URL:https://www.akbild.ac.at/en/museum-and-exhibitions/art-collections/cur
 rent/paintingsgallery/guided-tours-events/2021/tandem-ueberblicksfuehrung-
 211010-15
END:VEVENT
BEGIN:VTIMEZONE
TZID:Europe/Vienna
X-LIC-LOCATION:Europe/Vienna
BEGIN:DAYLIGHT
DTSTART:20210328T030000
TZNAME:CEST
TZOFFSETFROM:+0100
TZOFFSETTO:+0200
END:DAYLIGHT
END:VTIMEZONE
END:VCALENDAR
