BEGIN:VCALENDAR
VERSION:2.0
PRODID:-//Plone.org//NONSGML plone.app.event//EN
X-WR-TIMEZONE:Europe/Vienna
BEGIN:VEVENT
SUMMARY:Un/chronology - Practicing (Epistemic) Disobedience in Art and Cur
 ating II
DTSTART;TZID=Europe/Vienna:20211222T160000
DTSTAMP:20260422T200034Z
UID:dad892ca65e1931dbed3eaf120910651@www.akbild.ac.at
CATEGORIES:Führungen / Veranstaltungen
CREATED:20220312T192503Z
DESCRIPTION:Exhibition tour and conversation with Ana Hoffner ex-Prvulovic
 *\, artist\, researcher\, writer\; Andrea Hubin\, art historian\, art educ
 ator and Barbara Mahlknecht\, curator and art educator.
LAST-MODIFIED:20240802T103440Z
URL:https://www.akbild.ac.at/en/museum-and-exhibitions/art-collections/cur
 rent/paintingsgallery/guided-tours-events/2021/unchronology
END:VEVENT
BEGIN:VTIMEZONE
TZID:Europe/Vienna
X-LIC-LOCATION:Europe/Vienna
BEGIN:STANDARD
DTSTART:20211031T020000
TZNAME:CET
TZOFFSETFROM:+0200
TZOFFSETTO:+0100
END:STANDARD
END:VTIMEZONE
END:VCALENDAR
