BEGIN:VCALENDAR
VERSION:2.0
PRODID:-//Plone.org//NONSGML plone.app.event//EN
X-WR-TIMEZONE:Europe/Vienna
BEGIN:VEVENT
SUMMARY:Unruly. An Anti-Advent Programme
DTSTART;TZID=Europe/Vienna:20211218T110000
DTSTAMP:20260423T144058Z
UID:3390366ba45689f50fe7f5210cab4e59@www.akbild.ac.at
CATEGORIES:Führungen / Veranstaltungen
CREATED:20220312T192459Z
DESCRIPTION:Workshop for children and young people aged 8 to 14: Works fro
 m the art collections of the Academy of Fine Arts Vienna enter into dialog
 ue with contemporary art in the exhibition\n  \n   Hungry for Time\n  \n  
 .
LAST-MODIFIED:20240802T103440Z
URL:https://www.akbild.ac.at/en/museum-and-exhibitions/art-collections/cur
 rent/paintingsgallery/guided-tours-events/2021/widerspenstig-20211218
END:VEVENT
BEGIN:VTIMEZONE
TZID:Europe/Vienna
X-LIC-LOCATION:Europe/Vienna
BEGIN:STANDARD
DTSTART:20211031T020000
TZNAME:CET
TZOFFSETFROM:+0200
TZOFFSETTO:+0100
END:STANDARD
END:VTIMEZONE
END:VCALENDAR
