BEGIN:VCALENDAR
VERSION:2.0
PRODID:-//Plone.org//NONSGML plone.app.event//EN
X-WR-TIMEZONE:Europe/Vienna
BEGIN:VEVENT
SUMMARY:Drawing is thinking with a pencil. Our first sketchbook (German)
DTSTART;TZID=Europe/Vienna:20211113T150000
DTSTAMP:20260423T084615Z
UID:f9a17aace8759eac0cdfbdd362f01025@www.akbild.ac.at
CATEGORIES:Führungen / Veranstaltungen
CREATED:20220312T192342Z
DESCRIPTION:<workshop 14="" 8="" and="" between="" children="" everything=
 "" for="" freely="" in&nbsp\;\n  Hungry for Time. With these impressions w
 e start into our own sketchbook. Whether using ballpoint pen\, graphite\, 
 charcoal or chalk: Looking at old and new art helps us to discover a very 
 personal idiom with the material of your choice.
LAST-MODIFIED:20240802T103440Z
URL:https://www.akbild.ac.at/en/museum-and-exhibitions/art-collections/cur
 rent/paintingsgallery/guided-tours-events/2021/zeichnen20211113-15
END:VEVENT
BEGIN:VTIMEZONE
TZID:Europe/Vienna
X-LIC-LOCATION:Europe/Vienna
BEGIN:STANDARD
DTSTART:20211031T020000
TZNAME:CET
TZOFFSETFROM:+0200
TZOFFSETTO:+0100
END:STANDARD
END:VTIMEZONE
END:VCALENDAR
