BEGIN:VCALENDAR
VERSION:2.0
PRODID:-//Plone.org//NONSGML plone.app.event//EN
X-WR-TIMEZONE:Europe/Vienna
BEGIN:VEVENT
SUMMARY:Tandem Overview Tour (German)
DTSTART;TZID=Europe/Vienna:20220130T103000
DTSTAMP:20260423T073646Z
UID:cf4f003bb30354504825a93af86456a3@www.akbild.ac.at
CATEGORIES:Führungen / Veranstaltungen
CREATED:20220312T192603Z
DESCRIPTION:Tandem Overview Tour (German) in the exhibitions\n  \n   Hungr
 y for Time\n  \n  and\n  \n   Thicket of Ideas – Thicket of Times\n  \n 
  with art educators in the Paintings Gallery and the Art Information Desk 
 of the Exhibit Gallery.
LAST-MODIFIED:20240802T103444Z
URL:https://www.akbild.ac.at/en/museum-and-exhibitions/art-collections/cur
 rent/paintingsgallery/guided-tours-events/2022/tandem-fuehrung-22-01-30
END:VEVENT
BEGIN:VTIMEZONE
TZID:Europe/Vienna
X-LIC-LOCATION:Europe/Vienna
BEGIN:STANDARD
DTSTART:20211031T020000
TZNAME:CET
TZOFFSETFROM:+0200
TZOFFSETTO:+0100
END:STANDARD
END:VTIMEZONE
END:VCALENDAR
