BEGIN:VCALENDAR
VERSION:2.0
PRODID:-//Plone.org//NONSGML plone.app.event//EN
X-WR-TIMEZONE:Europe/Vienna
BEGIN:VEVENT
SUMMARY:Drawing is thinking with a pencil. Our first sketchbook (German)
DTSTART;TZID=Europe/Vienna:20220205T130000
DTSTAMP:20260421T140602Z
UID:940f959f677646f60d066a7a48dc9ae4@www.akbild.ac.at
CATEGORIES:Führungen / Veranstaltungen
CREATED:20220312T192549Z
DESCRIPTION:Family workshop for children from 8 years with their adult com
 panion: Freely and informally\, we record everything we see in\n \n  Hungr
 y for Time.
LAST-MODIFIED:20240802T103440Z
URL:https://www.akbild.ac.at/en/museum-and-exhibitions/art-collections/cur
 rent/paintingsgallery/guided-tours-events/2022/zeichnen-2022-02-05-2
END:VEVENT
BEGIN:VTIMEZONE
TZID:Europe/Vienna
X-LIC-LOCATION:Europe/Vienna
BEGIN:STANDARD
DTSTART:20211031T020000
TZNAME:CET
TZOFFSETFROM:+0200
TZOFFSETTO:+0100
END:STANDARD
END:VTIMEZONE
END:VCALENDAR
