BEGIN:VCALENDAR
VERSION:2.0
PRODID:-//Plone.org//NONSGML plone.app.event//EN
X-WR-TIMEZONE:Europe/Vienna
BEGIN:VEVENT
SUMMARY:Bureau Veritas | Grafik trifft A WORKING CLASS
DTSTART;VALUE=DATE:20210615
DTEND;VALUE=DATE:20210619
DTSTAMP:20260423T175720Z
UID:b6a2c51dda2b4c288c5aebb8577e1ad1@www.akbild.ac.at
CREATED:20240104T095133Z
DESCRIPTION:A project in the context of the focus Academy | Art | Public S
 phere at the Academy of Fine Arts Vienna.
LAST-MODIFIED:20240802T103417Z
URL:https://www.akbild.ac.at/en/museum-and-exhibitions/art-public-sphere/p
 rojects/2021/copy_of_bureau-veritas-grafik-trifft-a-working-class
END:VEVENT
END:VCALENDAR
